BEGIN:VCALENDAR
VERSION:2.0
PRODID:-//www.togetherwithveteranstaos.org - ECPv6.15.20//NONSGML v1.0//EN
CALSCALE:GREGORIAN
METHOD:PUBLISH
X-ORIGINAL-URL:https://togetherwithveteranstaos.org
X-WR-CALDESC:Events for www.togetherwithveteranstaos.org
REFRESH-INTERVAL;VALUE=DURATION:PT1H
X-Robots-Tag:noindex
X-PUBLISHED-TTL:PT1H
BEGIN:VTIMEZONE
TZID:America/Denver
BEGIN:DAYLIGHT
TZOFFSETFROM:-0700
TZOFFSETTO:-0600
TZNAME:MDT
DTSTART:20230312T090000
END:DAYLIGHT
BEGIN:STANDARD
TZOFFSETFROM:-0600
TZOFFSETTO:-0700
TZNAME:MST
DTSTART:20231105T080000
END:STANDARD
BEGIN:DAYLIGHT
TZOFFSETFROM:-0700
TZOFFSETTO:-0600
TZNAME:MDT
DTSTART:20240310T090000
END:DAYLIGHT
BEGIN:STANDARD
TZOFFSETFROM:-0600
TZOFFSETTO:-0700
TZNAME:MST
DTSTART:20241103T080000
END:STANDARD
BEGIN:DAYLIGHT
TZOFFSETFROM:-0700
TZOFFSETTO:-0600
TZNAME:MDT
DTSTART:20250309T090000
END:DAYLIGHT
BEGIN:STANDARD
TZOFFSETFROM:-0600
TZOFFSETTO:-0700
TZNAME:MST
DTSTART:20251102T080000
END:STANDARD
END:VTIMEZONE
BEGIN:VEVENT
DTSTART;VALUE=DATE:20240911
DTEND;VALUE=DATE:20240912
DTSTAMP:20260421T113443
CREATED:20240808T105815Z
LAST-MODIFIED:20240914T125636Z
UID:2837-1726012800-1726099199@togetherwithveteranstaos.org
SUMMARY:Flag Retirement Ceremony at Cerro Cemetery
DESCRIPTION:For more info\, contact:  cerrovfw9517@gmail.com  \nCerro VFW Facebook Page Link
URL:https://togetherwithveteranstaos.org/event/flag-retirement-ceremony-at-cerro-cemetery/
LOCATION:El Cerro Cemetery\, NM-378\, Questa\, NM\, 87556\, United States
CATEGORIES:past event,twv events cal
ATTACH;FMTTYPE=image/png:https://togetherwithveteranstaos.org/wp-content/uploads/2024/08/Screenshot-2024-08-08-at-4.56.21-AM.png
END:VEVENT
BEGIN:VEVENT
DTSTART;TZID=America/Denver:20240914T100000
DTEND;TZID=America/Denver:20240915T170000
DTSTAMP:20260421T113443
CREATED:20240808T110551Z
LAST-MODIFIED:20241129T202915Z
UID:2841-1726308000-1726419600@togetherwithveteranstaos.org
SUMMARY:New Mexico VFW Fall Conference & Commander's Homecoming
DESCRIPTION:The Commander’s Homecoming is a way to show appreciation for the leadership and commitment of the commander and to build camaraderie among the members of the post. \n  \nFor more info\, contact:  cerrovfw9517@gmail.com  \nCerro VFW Facebook Page Link
URL:https://togetherwithveteranstaos.org/event/new-mexico-vfw-fall-conference-commanders-homecoming/
LOCATION:Las Cruces Post 6917\, 5845 Bataan Mem W\, Las Cruces\, NM\, 88012
CATEGORIES:past event,twv events cal
ATTACH;FMTTYPE=image/jpeg:https://togetherwithveteranstaos.org/wp-content/uploads/2024/08/vfwlascruces.jpg
END:VEVENT
BEGIN:VEVENT
DTSTART;TZID=America/Denver:20240918T100000
DTEND;TZID=America/Denver:20240918T100000
DTSTAMP:20260421T113443
CREATED:20240908T165045Z
LAST-MODIFIED:20241001T192249Z
UID:2928-1726653600-1726653600@togetherwithveteranstaos.org
SUMMARY:Taos Standdown for Homeless Veterans
DESCRIPTION:Join Together With Veterans Taos\, Not Forgotten Outreach\, Veterans Off-Grid\,Senator Martin Heinrich’s staff\, UNM Taos\, local agencies\,businesses\, and the VA for a\n\nTaos Stand Downfor Veterans Experiencing Homelessness & all other Veterans\n  \n  \nWednesday\, September 18\nOPENING & INTRODUCTIONS\n10am\nMUSIC\nThe Arcane Ramblers\nFOOD\nBreakfast burritos from Mante’s Chow Cart\nFREE COMMUNITY RESOURCES\n \n \nHealthcare support services:\nInformation about Medicaid\, Medicare\, BeWell NM\,\nSocial Security\, VA benefits\nNurse clinicians doing vitals checkups\nEducation & resources  for screening and early detection of cancer\n  \n  \nBehavioral health services:\nBehavioral health clinicians\, information about EMDR\nNon-traditional mental health and SUD treatment information\, NARCAN\nSuicide prevention & firearm safety matierials\n  \n  \nMore community resources:\nUNM education & career pathways in healthcare\nServices for unsheltered veterans\, transitional housing\, and SSVF/HUD\nAssistance with federal benefits\n  \n  \nPeer-to-peer resources\nFree vaccinations for dogs and cats\nChair massage !\nMicrogreens from Veterans Off-Grid !\nFor more information:\ntwvtaos@gmail.com
URL:https://togetherwithveteranstaos.org/event/taos-standown-for-homeless-veterans/
LOCATION:Not Forgotten Outreach\, 610 paseo del pueblo norte\, taos\, NM\, 87513\, United States
CATEGORIES:past event,twv events cal
ATTACH;FMTTYPE=image/jpeg:https://togetherwithveteranstaos.org/wp-content/uploads/2024/09/Facebook-standown-with-the-AT.jpg
ORGANIZER;CN="Together With Veterans Taos":MAILTO:twvtaos@gmail.com
END:VEVENT
BEGIN:VEVENT
DTSTART;TZID=America/Denver:20240919T170000
DTEND;TZID=America/Denver:20240919T190000
DTSTAMP:20260421T113443
CREATED:20240808T111746Z
LAST-MODIFIED:20241001T192340Z
UID:2847-1726765200-1726772400@togetherwithveteranstaos.org
SUMMARY:VFW Post 9615 monthly meeting\, September
DESCRIPTION:Let’s get together on strategies to prevent rural veteran suicide in our communities. \n  \nSeptember 19\, 5pm\, Cerro- Regular VFW Post 9615 monthly meeting \nFor more info\, contact:  cerrovfw9517@gmail.com  \nCerro VFW Facebook Page Link
URL:https://togetherwithveteranstaos.org/event/vfw-post-9615-monthly-meeting-september/
LOCATION:Cerro VFW Post 9516\, Cerro\, NM 87519\, Cerro VFW Post 9516\, Cerro\, NM\, 87519\, United States
CATEGORIES:past event,twv events cal
ATTACH;FMTTYPE=image/jpeg:https://togetherwithveteranstaos.org/wp-content/uploads/2024/08/Cerro-September.jpg
END:VEVENT
END:VCALENDAR