BEGIN:VCALENDAR
VERSION:2.0
PRODID:-//www.togetherwithveteranstaos.org - ECPv6.15.20//NONSGML v1.0//EN
CALSCALE:GREGORIAN
METHOD:PUBLISH
X-WR-CALNAME:www.togetherwithveteranstaos.org
X-ORIGINAL-URL:https://togetherwithveteranstaos.org
X-WR-CALDESC:Events for www.togetherwithveteranstaos.org
REFRESH-INTERVAL;VALUE=DURATION:PT1H
X-Robots-Tag:noindex
X-PUBLISHED-TTL:PT1H
BEGIN:VTIMEZONE
TZID:America/Denver
BEGIN:DAYLIGHT
TZOFFSETFROM:-0700
TZOFFSETTO:-0600
TZNAME:MDT
DTSTART:20230312T090000
END:DAYLIGHT
BEGIN:STANDARD
TZOFFSETFROM:-0600
TZOFFSETTO:-0700
TZNAME:MST
DTSTART:20231105T080000
END:STANDARD
BEGIN:DAYLIGHT
TZOFFSETFROM:-0700
TZOFFSETTO:-0600
TZNAME:MDT
DTSTART:20240310T090000
END:DAYLIGHT
BEGIN:STANDARD
TZOFFSETFROM:-0600
TZOFFSETTO:-0700
TZNAME:MST
DTSTART:20241103T080000
END:STANDARD
BEGIN:DAYLIGHT
TZOFFSETFROM:-0700
TZOFFSETTO:-0600
TZNAME:MDT
DTSTART:20250309T090000
END:DAYLIGHT
BEGIN:STANDARD
TZOFFSETFROM:-0600
TZOFFSETTO:-0700
TZNAME:MST
DTSTART:20251102T080000
END:STANDARD
END:VTIMEZONE
BEGIN:VTIMEZONE
TZID:UTC
BEGIN:STANDARD
TZOFFSETFROM:+0000
TZOFFSETTO:+0000
TZNAME:UTC
DTSTART:20230101T000000
END:STANDARD
END:VTIMEZONE
BEGIN:VEVENT
DTSTART;TZID=America/Denver:20240329T090000
DTEND;TZID=America/Denver:20240329T120000
DTSTAMP:20260421T183711
CREATED:20240321T181644Z
LAST-MODIFIED:20240412T204553Z
UID:2035-1711702800-1711713600@togetherwithveteranstaos.org
SUMMARY:Volunteer day at Not Forgotten Outreach
DESCRIPTION:Volunteer Day at Not Forgotten Outreach
URL:https://togetherwithveteranstaos.org/event/volunteer-day-at-not-forgotten-outreach/
CATEGORIES:past event
ATTACH;FMTTYPE=image/webp:https://togetherwithveteranstaos.org/wp-content/uploads/2024/03/FIvolunteerday.webp
END:VEVENT
BEGIN:VEVENT
DTSTART;TZID=America/Denver:20240214T113000
DTEND;TZID=America/Denver:20240214T130000
DTSTAMP:20260421T183711
CREATED:20240209T195718Z
LAST-MODIFIED:20240405T220624Z
UID:1621-1707910200-1707915600@togetherwithveteranstaos.org
SUMMARY:Valentines for Vets at the American Legion
DESCRIPTION:Veterans can come and get help navigating federal offices from House Representative Teresa Leger Fernandez\, and receive handmade valentines from New Mexico students
URL:https://togetherwithveteranstaos.org/event/valentines-day-for-veterans-at-the-american-legion/
LOCATION:American Legion\, 1325 Trinity\, Los Alamos\, NM\, 87544
CATEGORIES:past event
ATTACH;FMTTYPE=image/webp:https://togetherwithveteranstaos.org/wp-content/uploads/2024/03/FIval.webp
END:VEVENT
BEGIN:VEVENT
DTSTART;TZID=UTC:20240214T080000
DTEND;TZID=UTC:20240214T140000
DTSTAMP:20260421T183711
CREATED:20240130T032621Z
LAST-MODIFIED:20240405T220621Z
UID:1381-1707897600-1707919200@togetherwithveteranstaos.org
SUMMARY:Suicide prevention day at the capitol
DESCRIPTION:Please register here \n 
URL:https://togetherwithveteranstaos.org/event/suicide-prevention-day-at-the-capitol/
LOCATION:Sante Fe Roundhouse\, 411 S Capitol St\, Sante Fe\, NM\, 87501\, United States
CATEGORIES:past event
ATTACH;FMTTYPE=image/jpeg:https://togetherwithveteranstaos.org/wp-content/uploads/2024/03/FIsuicideprev.jpg
END:VEVENT
BEGIN:VEVENT
DTSTART;TZID=UTC:20240127T130000
DTEND;TZID=UTC:20240127T150000
DTSTAMP:20260421T183711
CREATED:20240116T045618Z
LAST-MODIFIED:20240405T222349Z
UID:1132-1706360400-1706367600@togetherwithveteranstaos.org
SUMMARY:Community meeting at Carson Cafe
DESCRIPTION:Join TWV Taos on January 27\, 1-3pm at the Carson Cafe and Grocery\, 509 NM-567\, Carson\, NM for a Community Meeting to learn about and give your feedback on TWV Taos’ 6 strategies to help prevent suicide. Lunch will be provided\, and this meeting is open to everyone. \n 
URL:https://togetherwithveteranstaos.org/event/community-meeting-at-carson-cafe/
LOCATION:Carson Cafe\, 509 NM-567\, Carson\, NM\, 87517\, United States
CATEGORIES:past event
ATTACH;FMTTYPE=image/webp:https://togetherwithveteranstaos.org/wp-content/uploads/2024/01/CarsonNM-storefront-1.webp
ORGANIZER;CN="Together With Veterans Taos":MAILTO:twvtaos@gmail.com
END:VEVENT
BEGIN:VEVENT
DTSTART;TZID=UTC:20240123T080000
DTEND;TZID=UTC:20240123T100000
DTSTAMP:20260421T183711
CREATED:20240109T083841Z
LAST-MODIFIED:20240405T220601Z
UID:612-1705996800-1706004000@togetherwithveteranstaos.org
SUMMARY:Taos Behavioral Health Providers & Community Breakfast at Don Fernando
DESCRIPTION:Working with behavioral health providers to help prevent suicide is one of TWV’s 6 strategies for rural communities. TWV Taos appreciates the opportunity to present our goals and strategies to behavioral health providers in Taos County at the next providers breakfast. Gratitude to Golden Willow Retreat for giving us the opportunity to present!
URL:https://togetherwithveteranstaos.org/event/provider-breakfast-at-don-fernando/
LOCATION:Don Fernando de Taos conference room\, 1005 paseo del pueblo sur\, taos\, NM\, United States
CATEGORIES:past event
ATTACH;FMTTYPE=image/jpeg:https://togetherwithveteranstaos.org/wp-content/uploads/2024/01/Provider.jpg
END:VEVENT
BEGIN:VEVENT
DTSTART;VALUE=DATE:20240116
DTEND;VALUE=DATE:20240122
DTSTAMP:20260421T183711
CREATED:20240115T004526Z
LAST-MODIFIED:20240406T124217Z
UID:1093-1705363200-1705881599@togetherwithveteranstaos.org
SUMMARY:Military Appreciation Ski Week
DESCRIPTION:Not Forgotten Outreach (NFO) brings Military Families together from all over the US for an experience filled with fun activities on & off the Ski Mountains.  Hit the slopes for a guaranteed good time with loved ones and friends surrounding you.  It’s a perfect opportunity to improve relationships and at the same time enhance personal well-being. It’s family fun for everyone!\nMilitary members and families get discounts on lift tickets\, rentals\, lessons\, hot cocoa\, snacks and more!\nVisit the website link below to learn more about other discounts offered during the week.\nLearn More: https://notforgottenoutreach.org/2024-10th-annual-military-appreciation-ski-week/
URL:https://togetherwithveteranstaos.org/event/military-appreciation-ski-week/
LOCATION:Taos ski valley\, 116 sutton place\, taos ski valley\, NM\, 87525\, United States
CATEGORIES:past event
ATTACH;FMTTYPE=image/jpeg:https://togetherwithveteranstaos.org/wp-content/uploads/2024/01/newski.jpg
END:VEVENT
END:VCALENDAR