BEGIN:VCALENDAR
VERSION:2.0
PRODID:-//www.togetherwithveteranstaos.org - ECPv6.15.20//NONSGML v1.0//EN
CALSCALE:GREGORIAN
METHOD:PUBLISH
X-WR-CALNAME:www.togetherwithveteranstaos.org
X-ORIGINAL-URL:https://togetherwithveteranstaos.org
X-WR-CALDESC:Events for www.togetherwithveteranstaos.org
REFRESH-INTERVAL;VALUE=DURATION:PT1H
X-Robots-Tag:noindex
X-PUBLISHED-TTL:PT1H
BEGIN:VTIMEZONE
TZID:America/Denver
BEGIN:DAYLIGHT
TZOFFSETFROM:-0700
TZOFFSETTO:-0600
TZNAME:MDT
DTSTART:20240310T090000
END:DAYLIGHT
BEGIN:STANDARD
TZOFFSETFROM:-0600
TZOFFSETTO:-0700
TZNAME:MST
DTSTART:20241103T080000
END:STANDARD
BEGIN:DAYLIGHT
TZOFFSETFROM:-0700
TZOFFSETTO:-0600
TZNAME:MDT
DTSTART:20250309T090000
END:DAYLIGHT
BEGIN:STANDARD
TZOFFSETFROM:-0600
TZOFFSETTO:-0700
TZNAME:MST
DTSTART:20251102T080000
END:STANDARD
BEGIN:DAYLIGHT
TZOFFSETFROM:-0700
TZOFFSETTO:-0600
TZNAME:MDT
DTSTART:20260308T090000
END:DAYLIGHT
BEGIN:STANDARD
TZOFFSETFROM:-0600
TZOFFSETTO:-0700
TZNAME:MST
DTSTART:20261101T080000
END:STANDARD
BEGIN:DAYLIGHT
TZOFFSETFROM:-0700
TZOFFSETTO:-0600
TZNAME:MDT
DTSTART:20270314T090000
END:DAYLIGHT
BEGIN:STANDARD
TZOFFSETFROM:-0600
TZOFFSETTO:-0700
TZNAME:MST
DTSTART:20271107T080000
END:STANDARD
END:VTIMEZONE
BEGIN:VEVENT
DTSTART;TZID=America/Denver:20250314T120000
DTEND;TZID=America/Denver:20250314T160000
DTSTAMP:20260421T052650
CREATED:20250313T123153Z
LAST-MODIFIED:20250520T145533Z
UID:3493-1741953600-1741968000@togetherwithveteranstaos.org
SUMMARY:Veterans March at the Capitol FRIDAY
DESCRIPTION:This march is nationwide and New Mexico is participating.\nWe want you there!\nWhat:          Peaceful gathering to raise awareness of planned drastic cuts that would hurt our fellow veterans and their families. \nWhen:         Friday\, 14 March\, at noon until 1pm. \nWhere:        Santa Fe at the West Concourse of the Round House Capital building. The side with steps and across the street from the free parking structure. 490 Old Santa Fe Trail. \nWho:           All who support our veterans are welcome to join us. \nWear:          It’s gonna be cold\, bundle up. Wear winter coats and warm boots/shoes. Display your military service affiliation gear. Wear patches\, hats\, and pins. Hold flags. \nWhy:           A show of strength brings attention to our plight. The legislature is still in session. Our legislators are hard working\, they care\, and they are supportive. We stand together. \nWhat else:  Spread the word. Share this newsletter – CLICK HERE.  Call your friends\, carpool\, let’s do this! \n			\n				\n				\n				\n				\n				\n			\n				\n				\n				\n				\n				In New Mexico we love\, respect\, and honor our veterans. Culturally\, New Mexicans have a high propensity to serve — our country\, our communities\, and our families. Historically\, the Navajo Code Talkers from New Mexico played a unique and critical role in securing America’s victory in WWII. Today\, our state is home to four military bases with 21\,852 active duty service members and 20\,431 family members. They are our neighbors. We welcome them. They are part of our community. \n\nThere are 123\,000 veterans living in our 33 counties and many rely on the VA for their healthcare. Without a fully functioning VA our veterans would not have access to the benefits and services earned through their military service. Veterans put their lives on the line to serve the country they love\, too many didn’t come home\, some came home with lifelong disabilities. The VA treats veterans for conditions related to their military service\, provides disability compensation for injuries incurred during their service\, provides education assistance and home loans to help them integrate back into society\, and provides burial benefits to help their families when they are no longer able. \n\nThe administration\, through the guise of “efficiency”\, has plans to cut 83\,000 jobs at the VA. This is a travesty for the dedicated VA workers and for our veterans who will pay the price. When I served on active duty I was told we needed to be effective\, to get the mission done\, to take care of our Sailors and bring them all home. All branches of the military had the same guidance\, the same goals\, the same values. Efficiency was never a measure of effectiveness. That’s not how the military provides national security. \n \nThe bottom line is that when you have less\, you do less. Doing more with less is not sustainable – it’s a cliché. It’s a lie. We deserve better.
URL:https://togetherwithveteranstaos.org/event/veterans-march-at-the-capitol-friday/
LOCATION:Sante Fe Roundhouse\, 411 S Capitol St\, Sante Fe\, NM\, 87501\, United States
CATEGORIES:past event,twv events cal
ATTACH;FMTTYPE=image/jpeg:https://togetherwithveteranstaos.org/wp-content/uploads/2025/03/vetmarch.jpg
END:VEVENT
BEGIN:VEVENT
DTSTART;TZID=America/Denver:20250320T170000
DTEND;TZID=America/Denver:20250320T190000
DTSTAMP:20260421T052651
CREATED:20240320T230036Z
LAST-MODIFIED:20250520T145521Z
UID:3144-1742490000-1742497200@togetherwithveteranstaos.org
SUMMARY:Cerro VFW monthly meeting
DESCRIPTION:Cerro VFW Post #9516 Monthly Meeting\nThu\, Apr 17\, 2025\, 5:00pm\nLocation\nCerro VFW\n108 NM Highway 378\nQuesta\, NM
URL:https://togetherwithveteranstaos.org/event/cerro-vfw-monthly-meeting/
LOCATION:Cerro VFW Post 9516\, Cerro\, NM 87519\, Cerro VFW Post 9516\, Cerro\, NM\, 87519\, United States
CATEGORIES:past event,twv events cal
ATTACH;FMTTYPE=image/jpeg:https://togetherwithveteranstaos.org/wp-content/uploads/2024/12/cerrovfw.jpg
END:VEVENT
BEGIN:VEVENT
DTSTART;TZID=America/Denver:20250412T173000
DTEND;TZID=America/Denver:20250412T173000
DTSTAMP:20260421T052651
CREATED:20250407T184308Z
LAST-MODIFIED:20250520T145439Z
UID:3569-1744479000-1744479000@togetherwithveteranstaos.org
SUMMARY:Full moon drum circle
DESCRIPTION:FULL MOON DRUM CIRCLE\n  \nDrug and alcohol-free event \nPotluck 5:30-ish
URL:https://togetherwithveteranstaos.org/event/full-moon-drum-circle/
LOCATION:veterans off-grid\, 50 USFR 600\, Carson\, 87517\, United States
CATEGORIES:past event,twv events cal
ATTACH;FMTTYPE=image/jpeg:https://togetherwithveteranstaos.org/wp-content/uploads/2025/04/drum.jpg
END:VEVENT
BEGIN:VEVENT
DTSTART;TZID=America/Denver:20250408T180000
DTEND;TZID=America/Denver:20250408T193000
DTSTAMP:20260421T052651
CREATED:20250408T144947Z
LAST-MODIFIED:20250520T145453Z
UID:3624-1744135200-1744140600@togetherwithveteranstaos.org
SUMMARY:Questa VFW monthly meeting
DESCRIPTION:questa\nPost 7688 Jose Antonio Mondragon Post\n\n\nPO Box 782Questa\, NM 87556United StatesPhone: (575) 586-1191 \n\n \n Meeting Location & Time2597 Highway 522 \n\nQuesta6pm\, second Tuesday of the month \nDirections \n\n\nQuartermaster: Jason GonzalezCommander: Danny GarciaDues Amount: $43.00
URL:https://togetherwithveteranstaos.org/event/questa-vfw-monthly-meeting-2/
LOCATION:NM
CATEGORIES:past event,twv events cal
ATTACH;FMTTYPE=image/jpeg:https://togetherwithveteranstaos.org/wp-content/uploads/2025/04/VFWQUESTA.jpg
END:VEVENT
BEGIN:VEVENT
DTSTART;TZID=America/Denver:20250412T140000
DTEND;TZID=America/Denver:20250412T160000
DTSTAMP:20260421T052651
CREATED:20250408T143652Z
LAST-MODIFIED:20250520T145445Z
UID:3611-1744466400-1744473600@togetherwithveteranstaos.org
SUMMARY:Taos VFW monthly meeting
DESCRIPTION:taos\n\nPost 3259 Fernandez De Taos Post\nPO Box 3122Taos\, NM 87571United StatesPhone: (575) 779-3108 \n\n\n\nFacebook page \nMeeting Location & Time1016 Dea Lane\, Taos2pm\, second Saturday of the month \nDirections \nQuartermaster: Lawrence VargasCommander: Joseph DevargasDues Amount: $40.00
URL:https://togetherwithveteranstaos.org/event/taos-vfw-monthly-meeting/
LOCATION:NM
CATEGORIES:past event,twv events cal
ATTACH;FMTTYPE=image/jpeg:https://togetherwithveteranstaos.org/wp-content/uploads/2025/04/monthlyTAOS.jpg
END:VEVENT
BEGIN:VEVENT
DTSTART;TZID=America/Denver:20250413T170000
DTEND;TZID=America/Denver:20250413T183000
DTSTAMP:20260421T052651
CREATED:20250408T153643Z
LAST-MODIFIED:20250520T145434Z
UID:3651-1744563600-1744569000@togetherwithveteranstaos.org
SUMMARY:Mora VFW monthly meeting
DESCRIPTION:san luis\n\n\n\nPost 6101 San Luis Post\n\n\nPO Box 159\nSan Luis\, CO 81152\nUnited States\nPhone: (719) 672-0217 \nMeeting Location & Time \n\n\n224 Main Street\, San Luis\, CO\n6pm\, first Monday of the month \nDirections \n\n  \n\nQuartermaster: Antonio Read\nCommander: Robert Dimick Jr.\nDues Amount: $36.00 \n\n\n			\n				\n				\n				\n				\n				\n			\n			\n				\n				\n				\n				\n				\n			\n				\n				\n				\n				\n			\n				\n				\n			\n				\n				\n				\n				\n				\n				\n				\n				\n				\n				\n				\n				\n				\n			\n				\n				\n				\n				\n				\n				\n				\n				\n				\n				\n\nmora\n\n\nPost 1131 Olivas-Valdez Post\n\n\nPO Box 555\nMora\, NM 87732-0555\nUnited States\nPhone: (505) 469-9914 \nMeeting Location & Time\nNM Highway 518 @ mile marker 28.5\, Mora\n5pm\, second Sunday of the month \nDirections \nQuartermaster: Max Garcia \n\n\nCommander: Joseph Gurule\nDues Amount: $39.00
URL:https://togetherwithveteranstaos.org/event/mora-vfw-monthly-meeting/
LOCATION:NM
CATEGORIES:past event,twv events cal
ATTACH;FMTTYPE=image/jpeg:https://togetherwithveteranstaos.org/wp-content/uploads/2025/04/moravfw.jpg
END:VEVENT
BEGIN:VEVENT
DTSTART;TZID=America/Denver:20250417T170000
DTEND;TZID=America/Denver:20250417T193000
DTSTAMP:20260421T052651
CREATED:20250408T150147Z
LAST-MODIFIED:20250520T145427Z
UID:3631-1744909200-1744918200@togetherwithveteranstaos.org
SUMMARY:Cerro VFW monthly meeting
DESCRIPTION:cerro\n\n\nPost 9516 Charles Cisneros Post\n\n\nPO Box 98Cerro\, NM 87519United StatesPhone: (575) 586-2352 \nWebsite \n\n\n\nMeeting Location & Time108 Highway 378\, Cerro5pm\, third Thursday of the monthin winter\, 4pm \nDirections  \n\n\nQuartermaster: Adelita MeadCommander: Korey MeadDues Amount: $40.00
URL:https://togetherwithveteranstaos.org/event/cerro-vfw-monthly-meeting-2/
LOCATION:NM
CATEGORIES:past event,twv events cal
ATTACH;FMTTYPE=image/png:https://togetherwithveteranstaos.org/wp-content/uploads/2025/04/CERROVFW.png
END:VEVENT
BEGIN:VEVENT
DTSTART;TZID=America/Denver:20250425T110000
DTEND;TZID=America/Denver:20250425T170000
DTSTAMP:20260421T052651
CREATED:20250407T165556Z
LAST-MODIFIED:20250520T145421Z
UID:3557-1745578800-1745600400@togetherwithveteranstaos.org
SUMMARY:Tree planting workshop at Veterans Off-Grid
DESCRIPTION:“Trees communicate with each other and the plants in the understory–there are mutual benefits.”\n—Mike Musialowski\,\nFood Forest Movement of Taos
URL:https://togetherwithveteranstaos.org/event/tree-planting-workshop/
LOCATION:veterans off-grid\, 50 USFR 600\, Carson\, 87517\, United States
CATEGORIES:past event,twv events cal
ATTACH;FMTTYPE=image/jpeg:https://togetherwithveteranstaos.org/wp-content/uploads/2025/04/treeplanting.jpg
END:VEVENT
BEGIN:VEVENT
DTSTART;TZID=America/Denver:20250506T180000
DTEND;TZID=America/Denver:20250506T193000
DTSTAMP:20260421T052651
CREATED:20250408T151907Z
LAST-MODIFIED:20250520T145415Z
UID:3641-1746554400-1746559800@togetherwithveteranstaos.org
SUMMARY:San Luis VFW monthly meeting
DESCRIPTION:san luis\n\n\n\nPost 6101 San Luis Post\n\n\nPO Box 159San Luis\, CO 81152United StatesPhone: (719) 672-0217 \nMeeting Location & Time \n\n\n224 Main Street\, San Luis\, CO6pm\, first Monday of the month \nDirections \n\n  \n\nQuartermaster: Antonio ReadCommander: Robert Dimick Jr.Dues Amount: $36.00
URL:https://togetherwithveteranstaos.org/event/san-luis-vfw-monthly-meeting/
LOCATION:NM
CATEGORIES:past event,twv events cal
ATTACH;FMTTYPE=image/jpeg:https://togetherwithveteranstaos.org/wp-content/uploads/2025/04/sanluisvfw.jpg
END:VEVENT
BEGIN:VEVENT
DTSTART;TZID=America/Denver:20250524T100000
DTEND;TZID=America/Denver:20250524T150000
DTSTAMP:20260421T052651
CREATED:20250520T143619Z
LAST-MODIFIED:20250726T133351Z
UID:3663-1748080800-1748098800@togetherwithveteranstaos.org
SUMMARY:5th Annual Veterans Memorial Car Show!
DESCRIPTION:
URL:https://togetherwithveteranstaos.org/event/5th-annual-veterans-memorial-car-show/
LOCATION:DeVargas Funeral Home\, 1524 Paseo del Pueblo Sure\, Taos\, NM\, 87571\, United States
CATEGORIES:past event,twv events cal
ATTACH;FMTTYPE=image/png:https://togetherwithveteranstaos.org/wp-content/uploads/2025/05/carshow2.png
END:VEVENT
BEGIN:VEVENT
DTSTART;TZID=America/Denver:20250620T090000
DTEND;TZID=America/Denver:20250620T150000
DTSTAMP:20260421T052651
CREATED:20250621T124405Z
LAST-MODIFIED:20250726T133402Z
UID:3672-1750410000-1750431600@togetherwithveteranstaos.org
SUMMARY:Property Tax Event for Veterans
DESCRIPTION:
URL:https://togetherwithveteranstaos.org/event/property-tax-event-for-veterans/
LOCATION:Taos County Assessor’s Office\, 105 Albright Street\, Taos\, NM\, 87571\, United States
CATEGORIES:past event,twv events cal
ATTACH;FMTTYPE=image/jpeg:https://togetherwithveteranstaos.org/wp-content/uploads/2025/06/taxvet.jpg
END:VEVENT
BEGIN:VEVENT
DTSTART;VALUE=DATE:20250818
DTEND;VALUE=DATE:20251002
DTSTAMP:20260421T052651
CREATED:20250818T164459Z
LAST-MODIFIED:20251126T181354Z
UID:3701-1755475200-1759363199@togetherwithveteranstaos.org
SUMMARY:Tribute to Veterans at the Harwood Museum of Art
DESCRIPTION:As part of our upcoming exhibition Pursuit of Happiness: GI Bill in Taos\, we are creating a small tribute space to honor veterans—especially those connected to our local community. The exhibition explores how post-WWII GI Bill benefits changed the arts in Taos and the country. This installation will feature photographs\, medals\, letters\, and other personal items contributed by the public and can be connected to any veterans\, not just WWII vets.\n \nWhether it’s a family photo\, a medal\, or another meaningful item\, your participation will help shape a deeply personal and powerful component of this exhibition. Copies are welcome\, and all original materials will be returned at the end of the show.\n \nEach contribution will be treated with the same care and respect as artwork in our collection.\n \nIf you’re interested in participating\, you may:\nEmail Kate Miller (katemiller@unm.edu)\, or\nDrop items off at the museum’s front desk during open hours (Wednesday through Sunday\, 11am – 5pm)\n \nPlease see the attached flyer for more details. We’d be honored to include your story in this community effort.
URL:https://togetherwithveteranstaos.org/event/tribute-to-veterans-at-the-harwood-museum-of-art/
LOCATION:Harwood Museum of Art\, 238 Ledoux\, Taos\, NM\, 87571\, United States
CATEGORIES:past event,twv events cal
ATTACH;FMTTYPE=image/png:https://togetherwithveteranstaos.org/wp-content/uploads/2025/08/Screenshot-2025-08-18-at-10.36.34-AM.png
END:VEVENT
BEGIN:VEVENT
DTSTART;TZID=America/Denver:20250822T160000
DTEND;TZID=America/Denver:20250822T200000
DTSTAMP:20260421T052651
CREATED:20250818T165813Z
LAST-MODIFIED:20251126T181359Z
UID:3705-1755878400-1755892800@togetherwithveteranstaos.org
SUMMARY:Taos Tigers Tribute to Veterans Football Game
DESCRIPTION:
URL:https://togetherwithveteranstaos.org/event/taos-tigers-tribute-to-veterans-football-game/
LOCATION:Anaya Field\, Taos High School\, 134 Cervantes Street\, Taos\, NM\, 87571\, United States
CATEGORIES:past event
ATTACH;FMTTYPE=image/png:https://togetherwithveteranstaos.org/wp-content/uploads/2025/08/Screenshot-2025-08-21-at-10.24.28-AM-e1755793712545.png
END:VEVENT
BEGIN:VEVENT
DTSTART;TZID=America/Denver:20250829T080000
DTEND;TZID=America/Denver:20250901T170000
DTSTAMP:20260421T052651
CREATED:20250726T132816Z
LAST-MODIFIED:20251126T181405Z
UID:3684-1756454400-1756746000@togetherwithveteranstaos.org
SUMMARY:Veterans Meditation Retreat
DESCRIPTION:
URL:https://togetherwithveteranstaos.org/event/veterans-meditation-retreat/
LOCATION:The ClydeHotel\, 330 Tijeras Ave NW\, Albuquerque\, NM\, 87102\, United States
CATEGORIES:past event,twv events cal
ATTACH;FMTTYPE=image/png:https://togetherwithveteranstaos.org/wp-content/uploads/2025/07/MEDITATIONRETREAT.png
END:VEVENT
BEGIN:VEVENT
DTSTART;TZID=America/Denver:20251126T080000
DTEND;TZID=America/Denver:20251126T170000
DTSTAMP:20260421T052651
CREATED:20251126T173516Z
LAST-MODIFIED:20260223T125054Z
UID:3774-1764144000-1764176400@togetherwithveteranstaos.org
SUMMARY:Free Thanksgiving Dinner for Veterans at the Trujillo Diner
DESCRIPTION:This Thanksgiving\, Trujillo’s Diner wants to make sure no one in our community goes without a holiday meal.\n			\n				\n				\n				\n				\n				That’s why we’re offering free Thanksgiving dinners\, ready for pickup from 11am to 2pm on Thanksgiving Day. \nFor the elderly in the Taos area who can’t trvel\, we’ll bring the meal to you—with free delivery\, fromour family to yours. \nRSVP by messaging the Trujillo’s Diner Facebook page. Walk-ins are welcome\, and meals are first come\, first served. \n			\n				\n				\n				\n				\n				This holiday\,let us bring a warm plate—and a little kindness—to your table.
URL:https://togetherwithveteranstaos.org/event/free-thanksgiving-dinner-for-veterans-at-the-trujillo-diner/
LOCATION:Trujillo Diner\, 1351 Paseo Del Pueblo Sur\, Taos\, NM\, 87571\, United States
CATEGORIES:past event,twv events cal
ATTACH;FMTTYPE=image/png:https://togetherwithveteranstaos.org/wp-content/uploads/2025/11/trujillo.png
END:VEVENT
BEGIN:VEVENT
DTSTART;TZID=America/Denver:20260228T150000
DTEND;TZID=America/Denver:20260228T170000
DTSTAMP:20260421T052651
CREATED:20260223T124251Z
LAST-MODIFIED:20260223T130114Z
UID:3798-1772290800-1772298000@togetherwithveteranstaos.org
SUMMARY:Together with Veterans Taos presents VETERAN STORY SERIES
DESCRIPTION:Join Together With Veterans Taos Coordinator\, Valentina Livingston\, for a panel conversation examining how the GI Bill shaped Taos’s artistic landscape not only through those who benefited from it\, but also through those who were excluded.\n  \n			\n				\n				\n				\n				\n				Saturday\, February 28\, 20263pmHarwood Museum of Art
URL:https://togetherwithveteranstaos.org/event/together-with-veterans-taos-presents-veteran-story-series/
LOCATION:Harwood Museum of Art\, 238 Ledoux\, Taos\, NM\, 87571\, United States
CATEGORIES:twv events cal
ATTACH;FMTTYPE=image/png:https://togetherwithveteranstaos.org/wp-content/uploads/2026/02/gibill-1.png
END:VEVENT
END:VCALENDAR