BEGIN:VCALENDAR
VERSION:2.0
PRODID:-//www.togetherwithveteranstaos.org - ECPv6.15.20//NONSGML v1.0//EN
CALSCALE:GREGORIAN
METHOD:PUBLISH
X-WR-CALNAME:www.togetherwithveteranstaos.org
X-ORIGINAL-URL:https://togetherwithveteranstaos.org
X-WR-CALDESC:Events for www.togetherwithveteranstaos.org
REFRESH-INTERVAL;VALUE=DURATION:PT1H
X-Robots-Tag:noindex
X-PUBLISHED-TTL:PT1H
BEGIN:VTIMEZONE
TZID:America/Denver
BEGIN:DAYLIGHT
TZOFFSETFROM:-0700
TZOFFSETTO:-0600
TZNAME:MDT
DTSTART:20240310T090000
END:DAYLIGHT
BEGIN:STANDARD
TZOFFSETFROM:-0600
TZOFFSETTO:-0700
TZNAME:MST
DTSTART:20241103T080000
END:STANDARD
BEGIN:DAYLIGHT
TZOFFSETFROM:-0700
TZOFFSETTO:-0600
TZNAME:MDT
DTSTART:20250309T090000
END:DAYLIGHT
BEGIN:STANDARD
TZOFFSETFROM:-0600
TZOFFSETTO:-0700
TZNAME:MST
DTSTART:20251102T080000
END:STANDARD
BEGIN:DAYLIGHT
TZOFFSETFROM:-0700
TZOFFSETTO:-0600
TZNAME:MDT
DTSTART:20260308T090000
END:DAYLIGHT
BEGIN:STANDARD
TZOFFSETFROM:-0600
TZOFFSETTO:-0700
TZNAME:MST
DTSTART:20261101T080000
END:STANDARD
END:VTIMEZONE
BEGIN:VEVENT
DTSTART;TZID=America/Denver:20250307T080000
DTEND;TZID=America/Denver:20250307T170000
DTSTAMP:20260421T040419
CREATED:20250306T030421Z
LAST-MODIFIED:20250313T124449Z
UID:3467-1741334400-1741366800@togetherwithveteranstaos.org
SUMMARY:Tribute to Women in the Military—Friday
DESCRIPTION:Tribute to Women in the Military—\nCelebrating 40 years\n			\n				\n				\n				\n				\n				at the American Legion Post 13\, Albuquerque\n			\n				website\n			\n				\n				\n				\n				\n				COMMEMORATING OUR 40th ANNIVERSARY“SALUTING ALL WOMEN VETERANS”\n0800 hrs – Registration Opens\, Exhibits\, Refreshments\, Networking0900 hrs – Opening Ceremonies0930 hrs – Morning Entertainment1130 hrs – Luncheon\nKeynote Speaker:Dr. Betty Mosely-Brown\, USMC\n\nMore info and registration form: http://www.tributetowomeninthemilitary.org\n\n			\n				\n				\n				\n				\n				The Tribute to Women in the Military was first held in 1985 to honor military women\, past\, present\, and future.\nThe Tribute is held the first Friday of March in Albuquerque\, New Mexico\, and is open to everyone: women\, men\, children 12 and over\, Active Duty\, Reserve/Guard\, retirees\, veterans\, civilians.\nThe Tribute opens in the morning with registration and opening ceremonies and concludes after the awards luncheon.
URL:https://togetherwithveteranstaos.org/event/tribute-to-women-in-the-military-friday/
LOCATION:American Legion Post 13\, 1201 Legion Rd NE\, Albuquerque\, NM\, 87102\, United States
CATEGORIES:past event,twv events cal
ATTACH;FMTTYPE=image/png:https://togetherwithveteranstaos.org/wp-content/uploads/2025/03/womenFRI.png
END:VEVENT
END:VCALENDAR