BEGIN:VCALENDAR
VERSION:2.0
PRODID:-//www.togetherwithveteranstaos.org - ECPv6.15.20//NONSGML v1.0//EN
CALSCALE:GREGORIAN
METHOD:PUBLISH
X-ORIGINAL-URL:https://togetherwithveteranstaos.org
X-WR-CALDESC:Events for www.togetherwithveteranstaos.org
REFRESH-INTERVAL;VALUE=DURATION:PT1H
X-Robots-Tag:noindex
X-PUBLISHED-TTL:PT1H
BEGIN:VTIMEZONE
TZID:America/Denver
BEGIN:DAYLIGHT
TZOFFSETFROM:-0700
TZOFFSETTO:-0600
TZNAME:MDT
DTSTART:20230312T090000
END:DAYLIGHT
BEGIN:STANDARD
TZOFFSETFROM:-0600
TZOFFSETTO:-0700
TZNAME:MST
DTSTART:20231105T080000
END:STANDARD
BEGIN:DAYLIGHT
TZOFFSETFROM:-0700
TZOFFSETTO:-0600
TZNAME:MDT
DTSTART:20240310T090000
END:DAYLIGHT
BEGIN:STANDARD
TZOFFSETFROM:-0600
TZOFFSETTO:-0700
TZNAME:MST
DTSTART:20241103T080000
END:STANDARD
BEGIN:DAYLIGHT
TZOFFSETFROM:-0700
TZOFFSETTO:-0600
TZNAME:MDT
DTSTART:20250309T090000
END:DAYLIGHT
BEGIN:STANDARD
TZOFFSETFROM:-0600
TZOFFSETTO:-0700
TZNAME:MST
DTSTART:20251102T080000
END:STANDARD
END:VTIMEZONE
BEGIN:VEVENT
DTSTART;TZID=America/Denver:20241207T140000
DTEND;TZID=America/Denver:20241207T160000
DTSTAMP:20260421T084854
CREATED:20241207T224531Z
LAST-MODIFIED:20250211T024607Z
UID:3153-1733580000-1733587200@togetherwithveteranstaos.org
SUMMARY:Fernandez de Taos VFW Post #3295 monthly meeting
DESCRIPTION:Saturday\, December 10 at the Eagles Club
URL:https://togetherwithveteranstaos.org/event/fernandez-de-taos-vfw-monthly-meeting/
LOCATION:NM
CATEGORIES:past event,twv events cal
ATTACH;FMTTYPE=image/jpeg:https://togetherwithveteranstaos.org/wp-content/uploads/2024/12/fernandezvfw.jpg
END:VEVENT
END:VCALENDAR