BEGIN:VCALENDAR
VERSION:2.0
PRODID:-//www.togetherwithveteranstaos.org - ECPv6.15.20//NONSGML v1.0//EN
CALSCALE:GREGORIAN
METHOD:PUBLISH
X-ORIGINAL-URL:https://togetherwithveteranstaos.org
X-WR-CALDESC:Events for www.togetherwithveteranstaos.org
REFRESH-INTERVAL;VALUE=DURATION:PT1H
X-Robots-Tag:noindex
X-PUBLISHED-TTL:PT1H
BEGIN:VTIMEZONE
TZID:America/Denver
BEGIN:DAYLIGHT
TZOFFSETFROM:-0700
TZOFFSETTO:-0600
TZNAME:MDT
DTSTART:20230312T090000
END:DAYLIGHT
BEGIN:STANDARD
TZOFFSETFROM:-0600
TZOFFSETTO:-0700
TZNAME:MST
DTSTART:20231105T080000
END:STANDARD
BEGIN:DAYLIGHT
TZOFFSETFROM:-0700
TZOFFSETTO:-0600
TZNAME:MDT
DTSTART:20240310T090000
END:DAYLIGHT
BEGIN:STANDARD
TZOFFSETFROM:-0600
TZOFFSETTO:-0700
TZNAME:MST
DTSTART:20241103T080000
END:STANDARD
BEGIN:DAYLIGHT
TZOFFSETFROM:-0700
TZOFFSETTO:-0600
TZNAME:MDT
DTSTART:20250309T090000
END:DAYLIGHT
BEGIN:STANDARD
TZOFFSETFROM:-0600
TZOFFSETTO:-0700
TZNAME:MST
DTSTART:20251102T080000
END:STANDARD
END:VTIMEZONE
BEGIN:VEVENT
DTSTART;TZID=America/Denver:20241109T080000
DTEND;TZID=America/Denver:20241109T100000
DTSTAMP:20260421T114226
CREATED:20241108T091546Z
LAST-MODIFIED:20241129T202856Z
UID:3039-1731139200-1731146400@togetherwithveteranstaos.org
SUMMARY:Free breakfast in Questa for veterans
DESCRIPTION:
URL:https://togetherwithveteranstaos.org/event/free-breakfast-in-questa-for-veterans/
LOCATION:Freedom Center Church in Questa\, 2558 NM-522\, Questa\, NM\, 87556\, United States
CATEGORIES:past event,twv events cal
ATTACH;FMTTYPE=image/png:https://togetherwithveteranstaos.org/wp-content/uploads/2024/11/Mask-Group-58.png
END:VEVENT
END:VCALENDAR