BEGIN:VCALENDAR
VERSION:2.0
PRODID:-//www.togetherwithveteranstaos.org - ECPv6.15.20//NONSGML v1.0//EN
CALSCALE:GREGORIAN
METHOD:PUBLISH
X-WR-CALNAME:www.togetherwithveteranstaos.org
X-ORIGINAL-URL:https://togetherwithveteranstaos.org
X-WR-CALDESC:Events for www.togetherwithveteranstaos.org
REFRESH-INTERVAL;VALUE=DURATION:PT1H
X-Robots-Tag:noindex
X-PUBLISHED-TTL:PT1H
BEGIN:VTIMEZONE
TZID:America/Denver
BEGIN:DAYLIGHT
TZOFFSETFROM:-0700
TZOFFSETTO:-0600
TZNAME:MDT
DTSTART:20240310T090000
END:DAYLIGHT
BEGIN:STANDARD
TZOFFSETFROM:-0600
TZOFFSETTO:-0700
TZNAME:MST
DTSTART:20241103T080000
END:STANDARD
BEGIN:DAYLIGHT
TZOFFSETFROM:-0700
TZOFFSETTO:-0600
TZNAME:MDT
DTSTART:20250309T090000
END:DAYLIGHT
BEGIN:STANDARD
TZOFFSETFROM:-0600
TZOFFSETTO:-0700
TZNAME:MST
DTSTART:20251102T080000
END:STANDARD
BEGIN:DAYLIGHT
TZOFFSETFROM:-0700
TZOFFSETTO:-0600
TZNAME:MDT
DTSTART:20260308T090000
END:DAYLIGHT
BEGIN:STANDARD
TZOFFSETFROM:-0600
TZOFFSETTO:-0700
TZNAME:MST
DTSTART:20261101T080000
END:STANDARD
END:VTIMEZONE
BEGIN:VEVENT
DTSTART;TZID=America/Denver:20250212T080000
DTEND;TZID=America/Denver:20250212T140000
DTSTAMP:20260421T055254
CREATED:20250211T024512Z
LAST-MODIFIED:20250212T231957Z
UID:3419-1739347200-1739368800@togetherwithveteranstaos.org
SUMMARY:Advocacy Action Day\, American Foundation for Suicide Prevention
DESCRIPTION:AFSP’s annual Advocacy Action Days bring advocates together in the state capital to advocate for policy changes that will help prevent suicide. In partnership with the New Mexico State Suicide Prevention Coalition\, AFSP will be bringing together community partners\, legislators\, and advocates to bring this issue to the forefront.  \n8:00 AM – 1:00 PM Agency Information Tables in Rotunda9:00 AM Advocate Check-In9:30 AM – 1:00 PM Advocates Meet Legislators (depending on availability)10:30 AM Press Conference11:00 AM Lunch for all Registered Advocates (Pizza) \nThese personal connections made during Advocacy Action Days help to educate lawmakers about suicide\, inspire them to act\, and move state issues and bills forward each year.  \n\n\n\n\n\n\n\n\n\n\n\n\n\n\n			\n				Advocacy Action Day web page
URL:https://togetherwithveteranstaos.org/event/advocacy-action-day-american-foundation-for-suicide-prevention/
LOCATION:New Mexico State Capitol\, 490 Old Santa Fe Trail\, Santa Fe\, NM\, 87501\, United States
CATEGORIES:past event,twv events cal
ATTACH;FMTTYPE=image/png:https://togetherwithveteranstaos.org/wp-content/uploads/2025/02/advocacyday.png
END:VEVENT
END:VCALENDAR