BEGIN:VCALENDAR
VERSION:2.0
PRODID:-//www.togetherwithveteranstaos.org - ECPv6.15.20//NONSGML v1.0//EN
CALSCALE:GREGORIAN
METHOD:PUBLISH
X-ORIGINAL-URL:https://togetherwithveteranstaos.org
X-WR-CALDESC:Events for www.togetherwithveteranstaos.org
REFRESH-INTERVAL;VALUE=DURATION:PT1H
X-Robots-Tag:noindex
X-PUBLISHED-TTL:PT1H
BEGIN:VTIMEZONE
TZID:UTC
BEGIN:STANDARD
TZOFFSETFROM:+0000
TZOFFSETTO:+0000
TZNAME:UTC
DTSTART:20230101T000000
END:STANDARD
END:VTIMEZONE
BEGIN:VEVENT
DTSTART;VALUE=DATE:20240807
DTEND;VALUE=DATE:20240810
DTSTAMP:20260421T141656
CREATED:20240103T022927Z
LAST-MODIFIED:20240914T125535Z
UID:498-1722988800-1723247999@togetherwithveteranstaos.org
SUMMARY:2024 Disabled American Veterans Convention
DESCRIPTION:There are nearly 20 million veterans in the U.S. Last year\, DAV helped more than 1 million of our heroes address their challenges in positive\, life-changing ways.\nEvery veteran is affected by service. They may face health problems\, employment issues and struggles around accessing their benefits—immediately after service but also in the years to come. These are some of the most common issues they encounter and how DAV can help.
URL:https://togetherwithveteranstaos.org/event/2024-disabled-american-veterans-national-convention/
LOCATION:Phoenix convention center\, 122 N Second Street\, Phoenix\, 85004\, United States
CATEGORIES:past event,twv events cal
ATTACH;FMTTYPE=image/webp:https://togetherwithveteranstaos.org/wp-content/uploads/2024/03/FIthenbamvets.webp
END:VEVENT
END:VCALENDAR