BEGIN:VCALENDAR
VERSION:2.0
PRODID:-//www.togetherwithveteranstaos.org - ECPv6.15.20//NONSGML v1.0//EN
CALSCALE:GREGORIAN
METHOD:PUBLISH
X-ORIGINAL-URL:https://togetherwithveteranstaos.org
X-WR-CALDESC:Events for www.togetherwithveteranstaos.org
REFRESH-INTERVAL;VALUE=DURATION:PT1H
X-Robots-Tag:noindex
X-PUBLISHED-TTL:PT1H
BEGIN:VTIMEZONE
TZID:America/Denver
BEGIN:DAYLIGHT
TZOFFSETFROM:-0700
TZOFFSETTO:-0600
TZNAME:MDT
DTSTART:20230312T090000
END:DAYLIGHT
BEGIN:STANDARD
TZOFFSETFROM:-0600
TZOFFSETTO:-0700
TZNAME:MST
DTSTART:20231105T080000
END:STANDARD
BEGIN:DAYLIGHT
TZOFFSETFROM:-0700
TZOFFSETTO:-0600
TZNAME:MDT
DTSTART:20240310T090000
END:DAYLIGHT
BEGIN:STANDARD
TZOFFSETFROM:-0600
TZOFFSETTO:-0700
TZNAME:MST
DTSTART:20241103T080000
END:STANDARD
BEGIN:DAYLIGHT
TZOFFSETFROM:-0700
TZOFFSETTO:-0600
TZNAME:MDT
DTSTART:20250309T090000
END:DAYLIGHT
BEGIN:STANDARD
TZOFFSETFROM:-0600
TZOFFSETTO:-0700
TZNAME:MST
DTSTART:20251102T080000
END:STANDARD
END:VTIMEZONE
BEGIN:VEVENT
DTSTART;TZID=America/Denver:20240717T100000
DTEND;TZID=America/Denver:20240717T120000
DTSTAMP:20260421T152859
CREATED:20240710T173959Z
LAST-MODIFIED:20240803T085005Z
UID:2559-1721210400-1721217600@togetherwithveteranstaos.org
SUMMARY:Horse therapy for veterans
DESCRIPTION:
URL:https://togetherwithveteranstaos.org/event/equine-therapy/
LOCATION:Equine Spirit Sanctuary\, 13 Los Caballos Road\, Ranchos de Taos\, NM\, 87567
CATEGORIES:past event,twv events cal
ATTACH;FMTTYPE=image/webp:https://togetherwithveteranstaos.org/wp-content/uploads/2024/07/newequinefeature-1.webp
ORGANIZER;CN="Not Forgotten Outreach":MAILTO:https://notforgottenoutreach.org/contact/
END:VEVENT
END:VCALENDAR