BEGIN:VCALENDAR
VERSION:2.0
PRODID:-//www.togetherwithveteranstaos.org - ECPv6.15.20//NONSGML v1.0//EN
CALSCALE:GREGORIAN
METHOD:PUBLISH
X-ORIGINAL-URL:https://togetherwithveteranstaos.org
X-WR-CALDESC:Events for www.togetherwithveteranstaos.org
REFRESH-INTERVAL;VALUE=DURATION:PT1H
X-Robots-Tag:noindex
X-PUBLISHED-TTL:PT1H
BEGIN:VTIMEZONE
TZID:UTC
BEGIN:STANDARD
TZOFFSETFROM:+0000
TZOFFSETTO:+0000
TZNAME:UTC
DTSTART:20230101T000000
END:STANDARD
END:VTIMEZONE
BEGIN:VTIMEZONE
TZID:America/Denver
BEGIN:DAYLIGHT
TZOFFSETFROM:-0700
TZOFFSETTO:-0600
TZNAME:MDT
DTSTART:20230312T090000
END:DAYLIGHT
BEGIN:STANDARD
TZOFFSETFROM:-0600
TZOFFSETTO:-0700
TZNAME:MST
DTSTART:20231105T080000
END:STANDARD
BEGIN:DAYLIGHT
TZOFFSETFROM:-0700
TZOFFSETTO:-0600
TZNAME:MDT
DTSTART:20240310T090000
END:DAYLIGHT
BEGIN:STANDARD
TZOFFSETFROM:-0600
TZOFFSETTO:-0700
TZNAME:MST
DTSTART:20241103T080000
END:STANDARD
BEGIN:DAYLIGHT
TZOFFSETFROM:-0700
TZOFFSETTO:-0600
TZNAME:MDT
DTSTART:20250309T090000
END:DAYLIGHT
BEGIN:STANDARD
TZOFFSETFROM:-0600
TZOFFSETTO:-0700
TZNAME:MST
DTSTART:20251102T080000
END:STANDARD
END:VTIMEZONE
BEGIN:VEVENT
DTSTART;VALUE=DATE:20240607
DTEND;VALUE=DATE:20240610
DTSTAMP:20260421T165645
CREATED:20240103T025123Z
LAST-MODIFIED:20240710T183549Z
UID:509-1717718400-1717977599@togetherwithveteranstaos.org
SUMMARY:2024 NAMVETS National Convention
DESCRIPTION:Let’s get together to find more ways to support our veterans and lower rates of veteran suicide in Taos County. All behavioral health providers and community members are welcome!
URL:https://togetherwithveteranstaos.org/event/2024-namvets-national-convention/
LOCATION:Washington\, D.C.
CATEGORIES:past event,twv events cal
ATTACH;FMTTYPE=image/webp:https://togetherwithveteranstaos.org/wp-content/uploads/2024/03/FInamvets.webp
END:VEVENT
BEGIN:VEVENT
DTSTART;TZID=America/Denver:20240608T080000
DTEND;TZID=America/Denver:20240608T170000
DTSTAMP:20260421T165645
CREATED:20240710T183343Z
LAST-MODIFIED:20240710T184440Z
UID:2579-1717833600-1717866000@togetherwithveteranstaos.org
SUMMARY:2024 Women Veterans Conference in Albuquerque
DESCRIPTION:Established in 2007\, the Women’s Veterans of New Mexico is a nonprofit 501c3 organization which serves as an educational and supportive resource for women living in New Mexico\, or neighboring states\, who are U.S. armed services veterans separated under honorable or general terms. This includes woman warriors who are currently serving in the Active component\, the New Mexico National Guard\, or in the Reserves.\nWe are a diverse group of New Mexico women warriors from a every branch of the US Armed Forces. We exist to support and empower our fellow women veterans through a number of programs.\nWe are a collaborative forum for such women to learn about and discuss common challenges related to veteran benefits under federal and state law\, and challenges related to returning to civilian life after serving in the military.
URL:https://togetherwithveteranstaos.org/event/2024-women-veterans-conference-in-albuquerque/
LOCATION:Sheraton Albuquerque Uptown\, 2600 Louisiana Blvd NE\, Albuquerque\, NM 87110\, Albuquerque\, NM\, 87110
CATEGORIES:past event,twv events cal
ATTACH;FMTTYPE=image/webp:https://togetherwithveteranstaos.org/wp-content/uploads/2024/07/womenvetConference.webp
END:VEVENT
BEGIN:VEVENT
DTSTART;TZID=America/Denver:20240608T120000
DTEND;TZID=America/Denver:20240608T140000
DTSTAMP:20260421T165645
CREATED:20240530T104309Z
LAST-MODIFIED:20240710T183612Z
UID:2480-1717848000-1717855200@togetherwithveteranstaos.org
SUMMARY:Agricultural celebration at NFO
DESCRIPTION:Community Celebration of Local Agriculture—Come Veterans\, Farmers\, Friends and Family for food and music at the NFO Farm!\n  \n 
URL:https://togetherwithveteranstaos.org/event/agdricultural-celebration-at-nfo/
LOCATION:Not Forgotten Outreach\, 610 paseo del pueblo norte\, taos\, NM\, 87513\, United States
CATEGORIES:past event,twv events cal
ATTACH;FMTTYPE=image/png:https://togetherwithveteranstaos.org/wp-content/uploads/2024/05/NFOcowsFacebook.png
END:VEVENT
END:VCALENDAR