BEGIN:VCALENDAR
VERSION:2.0
PRODID:-//www.togetherwithveteranstaos.org - ECPv6.15.20//NONSGML v1.0//EN
CALSCALE:GREGORIAN
METHOD:PUBLISH
X-ORIGINAL-URL:https://togetherwithveteranstaos.org
X-WR-CALDESC:Events for www.togetherwithveteranstaos.org
REFRESH-INTERVAL;VALUE=DURATION:PT1H
X-Robots-Tag:noindex
X-PUBLISHED-TTL:PT1H
BEGIN:VTIMEZONE
TZID:America/Denver
BEGIN:DAYLIGHT
TZOFFSETFROM:-0700
TZOFFSETTO:-0600
TZNAME:MDT
DTSTART:20230312T090000
END:DAYLIGHT
BEGIN:STANDARD
TZOFFSETFROM:-0600
TZOFFSETTO:-0700
TZNAME:MST
DTSTART:20231105T080000
END:STANDARD
BEGIN:DAYLIGHT
TZOFFSETFROM:-0700
TZOFFSETTO:-0600
TZNAME:MDT
DTSTART:20240310T090000
END:DAYLIGHT
BEGIN:STANDARD
TZOFFSETFROM:-0600
TZOFFSETTO:-0700
TZNAME:MST
DTSTART:20241103T080000
END:STANDARD
BEGIN:DAYLIGHT
TZOFFSETFROM:-0700
TZOFFSETTO:-0600
TZNAME:MDT
DTSTART:20250309T090000
END:DAYLIGHT
BEGIN:STANDARD
TZOFFSETFROM:-0600
TZOFFSETTO:-0700
TZNAME:MST
DTSTART:20251102T080000
END:STANDARD
END:VTIMEZONE
BEGIN:VEVENT
DTSTART;TZID=America/Denver:20240422T110000
DTEND;TZID=America/Denver:20240422T130000
DTSTAMP:20260421T194950
CREATED:20240412T205723Z
LAST-MODIFIED:20240710T183556Z
UID:2424-1713783600-1713790800@togetherwithveteranstaos.org
SUMMARY:Earth Day at Not Forgotten Outreach
DESCRIPTION:Not Forgotten Outreach\n\n\n\n			\n				\n				\n				\n				\n				\n\n\nWe are a non-profit organization committed to creating community programs that benefit military veterans and their families in Taos\, New Mexico
URL:https://togetherwithveteranstaos.org/event/earth-day-at-not-forgotten-outreach/
LOCATION:Not Forgotten Outreach\, 610 paseo del pueblo norte\, taos\, NM\, 87513\, United States
CATEGORIES:past event,twv events cal
ATTACH;FMTTYPE=image/jpeg:https://togetherwithveteranstaos.org/wp-content/uploads/2024/04/earthday.jpg
END:VEVENT
END:VCALENDAR