BEGIN:VCALENDAR
VERSION:2.0
PRODID:-//www.togetherwithveteranstaos.org - ECPv6.15.20//NONSGML v1.0//EN
CALSCALE:GREGORIAN
METHOD:PUBLISH
X-ORIGINAL-URL:https://togetherwithveteranstaos.org
X-WR-CALDESC:Events for www.togetherwithveteranstaos.org
REFRESH-INTERVAL;VALUE=DURATION:PT1H
X-Robots-Tag:noindex
X-PUBLISHED-TTL:PT1H
BEGIN:VTIMEZONE
TZID:UTC
BEGIN:STANDARD
TZOFFSETFROM:+0000
TZOFFSETTO:+0000
TZNAME:UTC
DTSTART:20230101T000000
END:STANDARD
END:VTIMEZONE
BEGIN:VEVENT
DTSTART;TZID=UTC:20240418T160000
DTEND;TZID=UTC:20240418T180000
DTSTAMP:20260421T194951
CREATED:20240130T025753Z
LAST-MODIFIED:20240710T183603Z
UID:1371-1713456000-1713463200@togetherwithveteranstaos.org
SUMMARY:April meeting at the Cerro VFW
DESCRIPTION:Calling for veterans\, families\, and allies to join us in making a difference to reduce suicide. Please come share feedback and ideas on strategies to prevent rural veteran suicide in our communities.\n			\n				\n				\n				\n				\n				\n			\n			\n				\n				\n				\n				\n			\n				\n				\n				\n				\n				\n				\n			\n				\n				\n				\n				\n				\n				\n				\n				\n				\n				 Cerro VFW |  2024 Meeting Dates\n  \nMeeting is every third Thursday\n5pm in the summer months 4pm during winter The January meeting was cancelled. \nNest meeting April 15th at 4pm \nCerro VFW Post 9516 Cerro\, NM 87519 \n  \nQuestions?\nAsk VFW Post 9516 Commenaer Korey Mead: \n804 586b5239 or 575 586 2352 Korey.mead@gmail.com \nOr Quartermaster/Adjutant at: Cerrovfw9516 \nOr check our Cerro VFW Post 9516 Facebook page\, and follow us for more information. We’re always seeking new members and volunteers for both the VFW Post 9516\, VFW Post 7688\, and Auxiliary 76881! \nCome to a meeting or contact us for an application. \n 
URL:https://togetherwithveteranstaos.org/event/february-meeting-at-the-cerro-vfw/
LOCATION:Cerro VFW Post 9516\, Cerro\, NM 87519\, Cerro VFW Post 9516\, Cerro\, NM\, 87519\, United States
CATEGORIES:past event,twv events cal
ATTACH;FMTTYPE=image/jpeg:https://togetherwithveteranstaos.org/wp-content/uploads/2024/03/FICerromtg.jpg
ORGANIZER;CN="Korey Mead":MAILTO:Korey.mead@gmail.com
END:VEVENT
END:VCALENDAR